Workbook
Name Category: _Category[Category List]
Name ProductList: tbl_products[Product ID]
Name Sales: tbl_sales[Total Sales]
Name Supplier: tbl_suppliers[Supplier Name]

Sheet Dashboard
B1: Inventory Dashboard
B3: Total Products | E3: Total Inventory Value | H3: Low Stock Products | K3: Total Sales | N3: Metric | O3: Value
B4: =COUNTA(Products!A:A)-1 -> 2 | E4: =SUM(Inventory!G:G) -> 1500 | H4: =COUNTIF(Inventory!I:I,"LOW STOCK") -> 2 | K4: =SUM(Sales) -> 4290 | N4: Purchased | O4: =SUM(Purchases!F:F) -> 25
N5: Sold | O5: =SUM(Sales!F:F) -> 17
B21: Low Stock Products | H21: Top 5 Selling Products
B23: Product Name | E23: Current Stock | F23: Minimum Stock | H23: Product | I23: Total Sold
B24: {=IFERROR(_xlfn._xlws.FILTER(tbl_inventory[Product Name],tbl_inventory[Stock Status]="LOW STOCK"),"")} -> Mouse | E24: =IF(B24="","",INDEX(Inventory!E:E,MATCH(B24,Inventory!B:B,0))) -> 5 | F24: =IF(B24="","",INDEX(Inventory!H:H,MATCH(B24,Inventory!B:B,0))) -> 10 | H24: {=_xlfn.TAKE( _xlfn.LET( _xlpm.products, _xlfn.UNIQUE(tbl_sales[Product Name]), _xlpm.totals, SUMIFS(tbl_sales[Quantity sold], tbl_sales[Product Name], _xlpm.products), _xlfn._xlws.SORT(CHOOSE({1,2}, _xlpm.products, _xlpm.totals), 2, -1) ), 5 )} -> Wireless Mouse | I24: 12
B25: Wireless Mouse | E25: =IF(B25="","",INDEX(Inventory!E:E,MATCH(B25,Inventory!B:B,0))) -> 3 | F25: =IF(B25="","",INDEX(Inventory!H:H,MATCH(B25,Inventory!B:B,0))) -> 5 | H25: Mouse | I25: 5
E26: =IF(B26="","",INDEX(Inventory!E:E,MATCH(B26,Inventory!B:B,0))) | F26: =IF(B26="","",INDEX(Inventory!H:H,MATCH(B26,Inventory!B:B,0)))
E27: =IF(B27="","",INDEX(Inventory!E:E,MATCH(B27,Inventory!B:B,0))) | F27: =IF(B27="","",INDEX(Inventory!H:H,MATCH(B27,Inventory!B:B,0)))
E28: =IF(B28="","",INDEX(Inventory!E:E,MATCH(B28,Inventory!B:B,0))) | F28: =IF(B28="","",INDEX(Inventory!H:H,MATCH(B28,Inventory!B:B,0)))
E29: =IF(B29="","",INDEX(Inventory!E:E,MATCH(B29,Inventory!B:B,0))) | F29: =IF(B29="","",INDEX(Inventory!H:H,MATCH(B29,Inventory!B:B,0)))
E30: =IF(B30="","",INDEX(Inventory!E:E,MATCH(B30,Inventory!B:B,0))) | F30: =IF(B30="","",INDEX(Inventory!H:H,MATCH(B30,Inventory!B:B,0)))
E31: =IF(B31="","",INDEX(Inventory!E:E,MATCH(B31,Inventory!B:B,0))) | F31: =IF(B31="","",INDEX(Inventory!H:H,MATCH(B31,Inventory!B:B,0)))
E32: =IF(B32="","",INDEX(Inventory!E:E,MATCH(B32,Inventory!B:B,0))) | F32: =IF(B32="","",INDEX(Inventory!H:H,MATCH(B32,Inventory!B:B,0)))
E33: =IF(B33="","",INDEX(Inventory!E:E,MATCH(B33,Inventory!B:B,0))) | F33: =IF(B33="","",INDEX(Inventory!H:H,MATCH(B33,Inventory!B:B,0))) | H33: =Inventory!B10 | I33: =IF(H33<>"",SUMIFS(Sales!F:F,Sales!C:C,Inventory!A10),"")
E34: =IF(B34="","",INDEX(Inventory!E:E,MATCH(B34,Inventory!B:B,0))) | F34: =IF(B34="","",INDEX(Inventory!H:H,MATCH(B34,Inventory!B:B,0))) | H34: =Inventory!B11 | I34: =IF(H34<>"",SUMIFS(Sales!F:F,Sales!C:C,Inventory!A11),"")
E35: =IF(B35="","",INDEX(Inventory!E:E,MATCH(B35,Inventory!B:B,0))) | F35: =IF(B35="","",INDEX(Inventory!H:H,MATCH(B35,Inventory!B:B,0))) | H35: =Inventory!B12 | I35: =IF(H35<>"",SUMIFS(Sales!F:F,Sales!C:C,Inventory!A12),"")
H36: =Inventory!B13 | I36: =IF(H36<>"",SUMIFS(Sales!F:F,Sales!C:C,Inventory!A13),"")
H37: =Inventory!B14 | I37: =IF(H37<>"",SUMIFS(Sales!F:F,Sales!C:C,Inventory!A14),"")
H38: =Inventory!B15 | I38: =IF(H38<>"",SUMIFS(Sales!F:F,Sales!C:C,Inventory!A15),"")
H39: =Inventory!B16 | I39: =IF(H39<>"",SUMIFS(Sales!F:F,Sales!C:C,Inventory!A16),"")
H40: =Inventory!B17 | I40: =IF(H40<>"",SUMIFS(Sales!F:F,Sales!C:C,Inventory!A17),"")
H41: =Inventory!B18
H42: =Inventory!B19

Sheet Products
A1: Product ID | B1: Product Name | C1: Category | D1: Supplier | E1: Cost Price | F1: Selling Price | G1: Minimum Stock | H1: Unit | I1: Status
A2: PRD-001 | B2: Mouse | C2: Accessories | D2: Logitech | E2: 150 | F2: 210 | G2: 10 | H2: PCS | I2: Active
A3: PRD-002 | B3: Wireless Mouse | C3: Accessories | D3: Logitech | E3: 250 | F3: 270 | G3: 5 | H3: PCS | I3: Active

Sheet Purchases
A1: Purchase ID | B1: Date | C1: Product ID | D1: Product Name | E1: Supplier | F1: Quantity | G1: Cost Price | H1: Total Cost
A2: PUR-001 | B2: 46095 | C2: PRD-001 | D2: =IF(tbl_purchases[[#This Row],[Product ID]]<>"",_xlfn.XLOOKUP(C2,Products!A:A,Products!B:B,""),"") -> Mouse | E2: =IF(tbl_purchases[[#This Row],[Product ID]]<>"",_xlfn.XLOOKUP(C2,Products!A:A,Products!D:D,""),"") -> Logitech | F2: 10 | G2: =IF(tbl_purchases[[#This Row],[Product ID]]<>"",_xlfn.XLOOKUP(C2,Products!A:A,Products!E:E,""),"") -> 150 | H2: =IF(tbl_purchases[[#This Row],[Cost Price]]<>"",F2*G2,"") -> 1500
A3: PUR-002 | B3: 46095 | C3: PRD-002 | D3: =IF(tbl_purchases[[#This Row],[Product ID]]<>"",_xlfn.XLOOKUP(C3,Products!A:A,Products!B:B,""),"") -> Wireless Mouse | E3: =IF(tbl_purchases[[#This Row],[Product ID]]<>"",_xlfn.XLOOKUP(C3,Products!A:A,Products!D:D,""),"") -> Logitech | F3: 15 | G3: =IF(tbl_purchases[[#This Row],[Product ID]]<>"",_xlfn.XLOOKUP(C3,Products!A:A,Products!E:E,""),"") -> 250 | H3: =IF(tbl_purchases[[#This Row],[Cost Price]]<>"",F3*G3,"") -> 3750

Sheet Sales
A1: Sale ID | B1: Date | C1: Product ID | D1: Product Name | E1: Customer | F1: Quantity sold | G1: Selling Price | H1: Total Sales
A2: SAL-001 | B2: 46095 | C2: PRD-001 | D2: =IF(tbl_sales[[#This Row],[Product ID]]<>"",_xlfn.XLOOKUP(C2,Products!A:A,Products!B:B,""),"") -> Mouse | E2: SeoAnalyser | F2: 5 | G2: =IF(tbl_sales[[#This Row],[Product ID]]<>"",_xlfn.XLOOKUP(C2,Products!A:A,Products!F:F,""),"") -> 210 | H2: =IF(tbl_sales[[#This Row],[Selling Price]]<>"",F2*G2,"") -> 1050
A3: SAL-002 | B3: 46095 | C3: PRD-002 | D3: =IF(tbl_sales[[#This Row],[Product ID]]<>"",_xlfn.XLOOKUP(C3,Products!A:A,Products!B:B,""),"") -> Wireless Mouse | E3: SeoAnalyser | F3: 12 | G3: =IF(tbl_sales[[#This Row],[Product ID]]<>"",_xlfn.XLOOKUP(C3,Products!A:A,Products!F:F,""),"") -> 270 | H3: =IF(tbl_sales[[#This Row],[Selling Price]]<>"",F3*G3,"") -> 3240

Sheet Inventory
A1: Product ID | B1: Product Name | C1: Total Purchased | D1: Total Sold | E1: Current Stock | F1: Cost Price | G1: Inventory Value | H1: Minimum Stock | I1: Stock Status
A2: =IF(Products!A2="","",Products!A2) -> PRD-001 | B2: =IF(A2="","",Products!B2) -> Mouse | C2: =IF(A2="","",SUMIFS(Purchases!F:F,Purchases!C:C,A2)) -> 10 | D2: =IF(A2="","",SUMIFS(Sales!F:F,Sales!C:C,A2)) -> 5 | E2: =IF(A2="","",C2-D2) -> 5 | F2: =IF(A2="","",_xlfn.XLOOKUP(A2,Products!A:A,Products!E:E)) -> 150 | G2: =IF(A2="","",E2*F2) -> 750 | H2: =IF(A2="","",_xlfn.XLOOKUP(A2,Products!A:A,Products!G:G)) -> 10 | I2: =IF(A2="","",IF(E2<H2,"LOW STOCK","OK")) -> LOW STOCK
A3: =IF(Products!A3="","",Products!A3) -> PRD-002 | B3: =IF(A3="","",Products!B3) -> Wireless Mouse | C3: =IF(A3="","",SUMIFS(Purchases!F:F,Purchases!C:C,A3)) -> 15 | D3: =IF(A3="","",SUMIFS(Sales!F:F,Sales!C:C,A3)) -> 12 | E3: =IF(A3="","",C3-D3) -> 3 | F3: =IF(A3="","",_xlfn.XLOOKUP(A3,Products!A:A,Products!E:E)) -> 250 | G3: =IF(A3="","",E3*F3) -> 750 | H3: =IF(A3="","",_xlfn.XLOOKUP(A3,Products!A:A,Products!G:G)) -> 5 | I3: =IF(A3="","",IF(E3<H3,"LOW STOCK","OK")) -> LOW STOCK
A4: =IF(Products!A4="","",Products!A4) | B4: =IF(A4="","",Products!B4) | C4: =IF(A4="","",SUMIFS(Purchases!F:F,Purchases!C:C,A4)) | D4: =IF(A4="","",SUMIFS(Sales!F:F,Sales!C:C,A4)) | E4: =IF(A4="","",C4-D4) | F4: =IF(A4="","",_xlfn.XLOOKUP(A4,Products!A:A,Products!E:E)) | G4: =IF(A4="","",E4*F4) | H4: =IF(A4="","",_xlfn.XLOOKUP(A4,Products!A:A,Products!G:G)) | I4: =IF(A4="","",IF(E4<H4,"LOW STOCK","OK"))
A5: =IF(Products!A5="","",Products!A5) | B5: =IF(A5="","",Products!B5) | C5: =IF(A5="","",SUMIFS(Purchases!F:F,Purchases!C:C,A5)) | D5: =IF(A5="","",SUMIFS(Sales!F:F,Sales!C:C,A5)) | E5: =IF(A5="","",C5-D5) | F5: =IF(A5="","",_xlfn.XLOOKUP(A5,Products!A:A,Products!E:E)) | G5: =IF(A5="","",E5*F5) | H5: =IF(A5="","",_xlfn.XLOOKUP(A5,Products!A:A,Products!G:G)) | I5: =IF(A5="","",IF(E5<H5,"LOW STOCK","OK"))
A6: =IF(Products!A6="","",Products!A6) | B6: =IF(A6="","",Products!B6) | C6: =IF(A6="","",SUMIFS(Purchases!F:F,Purchases!C:C,A6)) | D6: =IF(A6="","",SUMIFS(Sales!F:F,Sales!C:C,A6)) | E6: =IF(A6="","",C6-D6) | F6: =IF(A6="","",_xlfn.XLOOKUP(A6,Products!A:A,Products!E:E)) | G6: =IF(A6="","",E6*F6) | H6: =IF(A6="","",_xlfn.XLOOKUP(A6,Products!A:A,Products!G:G)) | I6: =IF(A6="","",IF(E6<H6,"LOW STOCK","OK"))
A7: =IF(Products!A7="","",Products!A7) | B7: =IF(A7="","",Products!B7) | C7: =IF(A7="","",SUMIFS(Purchases!F:F,Purchases!C:C,A7)) | D7: =IF(A7="","",SUMIFS(Sales!F:F,Sales!C:C,A7)) | E7: =IF(A7="","",C7-D7) | F7: =IF(A7="","",_xlfn.XLOOKUP(A7,Products!A:A,Products!E:E)) | G7: =IF(A7="","",E7*F7) | H7: =IF(A7="","",_xlfn.XLOOKUP(A7,Products!A:A,Products!G:G)) | I7: =IF(A7="","",IF(E7<H7,"LOW STOCK","OK"))
A8: =IF(Products!A8="","",Products!A8) | B8: =IF(A8="","",Products!B8) | C8: =IF(A8="","",SUMIFS(Purchases!F:F,Purchases!C:C,A8)) | D8: =IF(A8="","",SUMIFS(Sales!F:F,Sales!C:C,A8)) | E8: =IF(A8="","",C8-D8) | F8: =IF(A8="","",_xlfn.XLOOKUP(A8,Products!A:A,Products!E:E)) | G8: =IF(A8="","",E8*F8) | H8: =IF(A8="","",_xlfn.XLOOKUP(A8,Products!A:A,Products!G:G)) | I8: =IF(A8="","",IF(E8<H8,"LOW STOCK","OK"))
A9: =IF(Products!A9="","",Products!A9) | B9: =IF(A9="","",Products!B9) | C9: =IF(A9="","",SUMIFS(Purchases!F:F,Purchases!C:C,A9)) | D9: =IF(A9="","",SUMIFS(Sales!F:F,Sales!C:C,A9)) | E9: =IF(A9="","",C9-D9) | F9: =IF(A9="","",_xlfn.XLOOKUP(A9,Products!A:A,Products!E:E)) | G9: =IF(A9="","",E9*F9) | H9: =IF(A9="","",_xlfn.XLOOKUP(A9,Products!A:A,Products!G:G)) | I9: =IF(A9="","",IF(E9<H9,"LOW STOCK","OK"))
A10: =IF(Products!A10="","",Products!A10) | B10: =IF(A10="","",Products!B10) | C10: =IF(A10="","",SUMIFS(Purchases!F:F,Purchases!C:C,A10)) | D10: =IF(A10="","",SUMIFS(Sales!F:F,Sales!C:C,A10)) | E10: =IF(A10="","",C10-D10) | F10: =IF(A10="","",_xlfn.XLOOKUP(A10,Products!A:A,Products!E:E)) | G10: =IF(A10="","",E10*F10) | H10: =IF(A10="","",_xlfn.XLOOKUP(A10,Products!A:A,Products!G:G)) | I10: =IF(A10="","",IF(E10<H10,"LOW STOCK","OK"))
A11: =IF(Products!A11="","",Products!A11) | B11: =IF(A11="","",Products!B11) | C11: =IF(A11="","",SUMIFS(Purchases!F:F,Purchases!C:C,A11)) | D11: =IF(A11="","",SUMIFS(Sales!F:F,Sales!C:C,A11)) | E11: =IF(A11="","",C11-D11) | F11: =IF(A11="","",_xlfn.XLOOKUP(A11,Products!A:A,Products!E:E)) | G11: =IF(A11="","",E11*F11) | H11: =IF(A11="","",_xlfn.XLOOKUP(A11,Products!A:A,Products!G:G)) | I11: =IF(A11="","",IF(E11<H11,"LOW STOCK","OK"))
A12: =IF(Products!A12="","",Products!A12) | B12: =IF(A12="","",Products!B12) | C12: =IF(A12="","",SUMIFS(Purchases!F:F,Purchases!C:C,A12)) | D12: =IF(A12="","",SUMIFS(Sales!F:F,Sales!C:C,A12)) | E12: =IF(A12="","",C12-D12) | F12: =IF(A12="","",_xlfn.XLOOKUP(A12,Products!A:A,Products!E:E)) | G12: =IF(A12="","",E12*F12) | H12: =IF(A12="","",_xlfn.XLOOKUP(A12,Products!A:A,Products!G:G)) | I12: =IF(A12="","",IF(E12<H12,"LOW STOCK","OK"))
A13: =IF(Products!A13="","",Products!A13) | B13: =IF(A13="","",Products!B13) | C13: =IF(A13="","",SUMIFS(Purchases!F:F,Purchases!C:C,A13)) | D13: =IF(A13="","",SUMIFS(Sales!F:F,Sales!C:C,A13)) | E13: =IF(A13="","",C13-D13) | F13: =IF(A13="","",_xlfn.XLOOKUP(A13,Products!A:A,Products!E:E)) | G13: =IF(A13="","",E13*F13) | H13: =IF(A13="","",_xlfn.XLOOKUP(A13,Products!A:A,Products!G:G)) | I13: =IF(A13="","",IF(E13<H13,"LOW STOCK","OK"))
... A547: =IF(Products!A547="","",Products!A547) | B547: =IF(A547="","",Products!B547) | C547: =IF(A547="","",SUMIFS(Purchases!F:F,Purchases!C:C,A547)) | D547: =IF(A547="","",SUMIFS(Sales!F:F,Sales!C:C,A547)) | E547: =IF(A547="","",C547-D547) | F547: =IF(A547="","",_xlfn.XLOOKUP(A547,Products!A:A,Products!E:E)) | G547: =IF(A547="","",E547*F547) | H547: =IF(A547="","",_xlfn.XLOOKUP(A547,Products!A:A,Products!G:G)) | I547: =IF(A547="","",IF(E547<H547,"LOW STOCK","OK"))

Sheet Suppliers
A1: Supplier ID | B1: Supplier Name | C1: Phone | D1: Email | E1: City
A2: SUP-001 | B2: Logitech | C2: 9999999999 | D2: sales@logitech.com | E2: New York
A3: SUP-002 | B3: Microsoft | C3: 9999999999 | D3: Sales@Microsoft.com | E3: New York

Sheet Settings
A1: Category List
A2: Electronics | I2: How to use
A3: Accessories | J3: 1- Update Supplier list Tab
A4: Hardware | J4: 2- Update Product Tab
A5: Office Supplies | J5: 3- Update Purchase Tab
A6: Furniture | J6: 4- Update Sales Tab
I8: Important Notes
J9: 1. Do not edit formulas
J10: 2. Add data only in input fields
J11: 3. Contact info (optional)
